BEGIN:VCALENDAR
VERSION:2.0
PRODID:-//Salzgrotte Halit - ECPv6.9.1//NONSGML v1.0//EN
CALSCALE:GREGORIAN
METHOD:PUBLISH
X-WR-CALNAME:Salzgrotte Halit
X-ORIGINAL-URL:https://salzgrotte-halit.de
X-WR-CALDESC:Veranstaltungen für Salzgrotte Halit
REFRESH-INTERVAL;VALUE=DURATION:PT1H
X-Robots-Tag:noindex
X-PUBLISHED-TTL:PT1H
BEGIN:VTIMEZONE
TZID:Europe/Berlin
BEGIN:DAYLIGHT
TZOFFSETFROM:+0100
TZOFFSETTO:+0200
TZNAME:CEST
DTSTART:20220327T010000
END:DAYLIGHT
BEGIN:STANDARD
TZOFFSETFROM:+0200
TZOFFSETTO:+0100
TZNAME:CET
DTSTART:20221030T010000
END:STANDARD
END:VTIMEZONE
BEGIN:VEVENT
DTSTART;TZID=Europe/Berlin:20221213T181500
DTEND;TZID=Europe/Berlin:20221213T191500
DTSTAMP:20260423T150857
CREATED:20221130T125327Z
LAST-MODIFIED:20221130T125327Z
UID:3310-1670955300-1670958900@salzgrotte-halit.de
SUMMARY:Engelmeditation
DESCRIPTION:Diese besondere Auszeit findet in einer besonderen Atmosphäre statt. Bevor es in die Auszeit geht\, zieht jeder Teilnehmer eine Engelkarte mit einer Botschaft. \n Diese Botschaft unterstützt die aktuellen Lebenssituationen. In der Grotte lassen wir gemeinsam den Alltag los\, kommen zur Ruhe und entspannen unseren Körper. In dieser Entspannung taucht jeder Teilnehmer mit mir in eine Fantasiereise ein\, wo er seinen Engel trifft. Die unterstützende Botschaft wird sanft im Unterbewusstsein manifestiert \nPreis pro Teilnehmer: 22\,00€ \nWenn Sie an dem Termin interessiert sind\, können sie gerne uns kontaktieren.
URL:https://salzgrotte-halit.de/event/engelmeditation/
END:VEVENT
END:VCALENDAR