BEGIN:VCALENDAR
VERSION:2.0
PRODID:-//Salzgrotte Halit - ECPv6.9.1//NONSGML v1.0//EN
CALSCALE:GREGORIAN
METHOD:PUBLISH
X-WR-CALNAME:Salzgrotte Halit
X-ORIGINAL-URL:https://salzgrotte-halit.de
X-WR-CALDESC:Veranstaltungen für Salzgrotte Halit
REFRESH-INTERVAL;VALUE=DURATION:PT1H
X-Robots-Tag:noindex
X-PUBLISHED-TTL:PT1H
BEGIN:VTIMEZONE
TZID:Europe/Berlin
BEGIN:DAYLIGHT
TZOFFSETFROM:+0100
TZOFFSETTO:+0200
TZNAME:CEST
DTSTART:20220327T010000
END:DAYLIGHT
BEGIN:STANDARD
TZOFFSETFROM:+0200
TZOFFSETTO:+0100
TZNAME:CET
DTSTART:20221030T010000
END:STANDARD
END:VTIMEZONE
BEGIN:VEVENT
DTSTART;TZID=Europe/Berlin:20221219T180000
DTEND;TZID=Europe/Berlin:20221219T184500
DTSTAMP:20260423T152134
CREATED:20221130T124854Z
LAST-MODIFIED:20221208T133922Z
UID:3305-1671472800-1671475500@salzgrotte-halit.de
SUMMARY:Klangschalenmeditation
DESCRIPTION:Monika Dierks \nGönne Dir eine kleine Auszeit. Den Alltag vergessen\, entspannen und auftanken. Lasse Dich in eine Decke gehüllt\, auf einem bequemen Liegestuhl liegend\, von den Klängen der Klangschalen in eine tiefe Meditation führen. \n15\,00€/Person. \n\n\nWenn Sie an dem Termin interessiert sind\, können sie gerne uns kontaktieren.
URL:https://salzgrotte-halit.de/event/klangschalenmeditation-4/
LOCATION:salzgrotte
END:VEVENT
END:VCALENDAR