BEGIN:VCALENDAR
VERSION:2.0
PRODID:-//Salzgrotte Halit - ECPv6.9.1//NONSGML v1.0//EN
CALSCALE:GREGORIAN
METHOD:PUBLISH
X-WR-CALNAME:Salzgrotte Halit
X-ORIGINAL-URL:https://salzgrotte-halit.de
X-WR-CALDESC:Veranstaltungen für Salzgrotte Halit
REFRESH-INTERVAL;VALUE=DURATION:PT1H
X-Robots-Tag:noindex
X-PUBLISHED-TTL:PT1H
BEGIN:VTIMEZONE
TZID:Europe/Berlin
BEGIN:DAYLIGHT
TZOFFSETFROM:+0100
TZOFFSETTO:+0200
TZNAME:CEST
DTSTART:20230326T010000
END:DAYLIGHT
BEGIN:STANDARD
TZOFFSETFROM:+0200
TZOFFSETTO:+0100
TZNAME:CET
DTSTART:20231029T010000
END:STANDARD
END:VTIMEZONE
BEGIN:VEVENT
DTSTART;TZID=Europe/Berlin:20230207T180000
DTEND;TZID=Europe/Berlin:20230207T190000
DTSTAMP:20260420T202112
CREATED:20230207T210508Z
LAST-MODIFIED:20230207T210508Z
UID:3819-1675792800-1675796400@salzgrotte-halit.de
SUMMARY:Licht- und Schutzmeditation
DESCRIPTION:Mit Daniela Upmeyer-Consbruch \nDiese geführte Meditation unterstützt uns unser Potenzial zu erkennen. \nDas was uns von ihm trennt liebevoll loszulassen und es geschützt in uns wachsen zu lassen. \nKosten/Person: 25€ (incl. Salzgrotteneintritt)
URL:https://salzgrotte-halit.de/event/licht-und-schutzmeditation/
END:VEVENT
END:VCALENDAR