BEGIN:VCALENDAR
VERSION:2.0
PRODID:-//Salzgrotte Halit - ECPv6.9.1//NONSGML v1.0//EN
CALSCALE:GREGORIAN
METHOD:PUBLISH
X-WR-CALNAME:Salzgrotte Halit
X-ORIGINAL-URL:https://salzgrotte-halit.de
X-WR-CALDESC:Veranstaltungen für Salzgrotte Halit
REFRESH-INTERVAL;VALUE=DURATION:PT1H
X-Robots-Tag:noindex
X-PUBLISHED-TTL:PT1H
BEGIN:VTIMEZONE
TZID:Europe/Berlin
BEGIN:DAYLIGHT
TZOFFSETFROM:+0100
TZOFFSETTO:+0200
TZNAME:CEST
DTSTART:20230326T010000
END:DAYLIGHT
BEGIN:STANDARD
TZOFFSETFROM:+0200
TZOFFSETTO:+0100
TZNAME:CET
DTSTART:20231029T010000
END:STANDARD
END:VTIMEZONE
BEGIN:VEVENT
DTSTART;TZID=Europe/Berlin:20230211T160000
DTEND;TZID=Europe/Berlin:20230211T164500
DTSTAMP:20260420T132654
CREATED:20221230T131725Z
LAST-MODIFIED:20230119T205733Z
UID:3665-1676131200-1676133900@salzgrotte-halit.de
SUMMARY:Wintermärchen
DESCRIPTION:Mit Katrin Fleck \nTauche ein in die Welt der Märchen. Von wunderbaren Klanginstrumenten eingerahmte frei erzählte Märchen führen dich in eine Welt voller Wunder … Es war einmal in einem fernen Land und doch so nah\, eine Zeit der Wünsche und Verzauberungen\, eine Zeit in der die wundersamsten Dinge geschahen… \n  \nWenn Sie an dem Termin interessiert sind\, können Sie uns gerne kontaktieren.
URL:https://salzgrotte-halit.de/event/wintermaerchen-2/
END:VEVENT
END:VCALENDAR