BEGIN:VCALENDAR
VERSION:2.0
PRODID:-//Salzgrotte Halit - ECPv6.9.1//NONSGML v1.0//EN
CALSCALE:GREGORIAN
METHOD:PUBLISH
X-WR-CALNAME:Salzgrotte Halit
X-ORIGINAL-URL:https://salzgrotte-halit.de
X-WR-CALDESC:Veranstaltungen für Salzgrotte Halit
REFRESH-INTERVAL;VALUE=DURATION:PT1H
X-Robots-Tag:noindex
X-PUBLISHED-TTL:PT1H
BEGIN:VTIMEZONE
TZID:Europe/Berlin
BEGIN:DAYLIGHT
TZOFFSETFROM:+0100
TZOFFSETTO:+0200
TZNAME:CEST
DTSTART:20240331T010000
END:DAYLIGHT
BEGIN:STANDARD
TZOFFSETFROM:+0200
TZOFFSETTO:+0100
TZNAME:CET
DTSTART:20241027T010000
END:STANDARD
END:VTIMEZONE
BEGIN:VEVENT
DTSTART;TZID=Europe/Berlin:20241112T181500
DTEND;TZID=Europe/Berlin:20241112T191500
DTSTAMP:20260423T110801
CREATED:20240903T181728Z
LAST-MODIFIED:20240903T182028Z
UID:4634-1731435300-1731438900@salzgrotte-halit.de
SUMMARY:Meditation - Spüre dein inneres Kind
DESCRIPTION:Erlaube dir die Unbeschwertheit\, Freude\, Leichtigkeit die wir als Kind gelebt haben\, wieder zu aktivieren. In dieser Meditation holen wir das Kind in dir in den Vordergrund. Als Kind haben wir intuitiv Dinge gemacht. Heute als Erwachsener entscheiden wir aus der Vernunft\, Angst Fehler zu machen und aus dem was die Gesellschaft für richtig und falsch hält. Die Meditation soll dich im Gleichgewicht zwischen Kind und Erwachsenen unterstützen. \nKosten: 25€/Person (bitte in Bar mitbringen) \nAnmeldung unter: Salzgrotte Halit\, 05207-8897700\, info@salzgrotte-halit.de \n  \nIch bitte um Verständnis\, das Termine die 12 Stunden vorher abgesagt werden mit 10 Euro berechnet werden. Nur so kann ich anderen Teilnehmern ermöglichen\, dass die von ihnen gebuchten Auszeiten stattfinden können. \nJedoch behalte ich mir vor Termine wegen zu geringer Beteiligung ausfallen zu lassen. \nDaniela Upmeyer-Consbruch
URL:https://salzgrotte-halit.de/event/meditation-spuere-dein-inneres-kind/
END:VEVENT
END:VCALENDAR