BEGIN:VCALENDAR
VERSION:2.0
PRODID:-//Salzgrotte Halit - ECPv6.9.1//NONSGML v1.0//EN
CALSCALE:GREGORIAN
METHOD:PUBLISH
X-ORIGINAL-URL:https://salzgrotte-halit.de
X-WR-CALDESC:Veranstaltungen für Salzgrotte Halit
REFRESH-INTERVAL;VALUE=DURATION:PT1H
X-Robots-Tag:noindex
X-PUBLISHED-TTL:PT1H
BEGIN:VTIMEZONE
TZID:Europe/Berlin
BEGIN:DAYLIGHT
TZOFFSETFROM:+0100
TZOFFSETTO:+0200
TZNAME:CEST
DTSTART:20230326T010000
END:DAYLIGHT
BEGIN:STANDARD
TZOFFSETFROM:+0200
TZOFFSETTO:+0100
TZNAME:CET
DTSTART:20231029T010000
END:STANDARD
END:VTIMEZONE
BEGIN:VEVENT
DTSTART;TZID=Europe/Berlin:20230104T180000
DTEND;TZID=Europe/Berlin:20230104T191500
DTSTAMP:20260421T110146
CREATED:20230104T124715Z
LAST-MODIFIED:20230108T204854Z
UID:3701-1672855200-1672859700@salzgrotte-halit.de
SUMMARY:Reinigungs-Meditation
DESCRIPTION:mit Daniela Upmeyer-Consbruch \nIn dieser Auszeit geht es um das Lösen alter Muster in uns. Durch den Ausstieg aus dem Alltag und das Fokussieren auf unseren Körper\, erreichen wir\, dass unser Unterbewusstsein angesprochen wird.  \n  \nWenn Sie an dem Termin interessiert sind\, können sie gerne uns kontaktieren.
URL:https://salzgrotte-halit.de/event/reinigungs-meditation/
END:VEVENT
BEGIN:VEVENT
DTSTART;TZID=Europe/Berlin:20230109T180000
DTEND;TZID=Europe/Berlin:20230109T184500
DTSTAMP:20260421T110146
CREATED:20221226T133959Z
LAST-MODIFIED:20221226T134020Z
UID:3644-1673287200-1673289900@salzgrotte-halit.de
SUMMARY:Klangschalenmeditation
DESCRIPTION:Gönnen Sie sich eine kleine Auszeit. Den Alltag vergessen\, entspannen und auftanken. Lassen Sie sich\, in eine Decke gehüllt\, auf einem bequemen Liegestuhl liegend\, von den Klängen der Klangschalen in eine tiefe Meditation führen. \nMit Monika Dierks \nPreis: 7\,50€/Kind\, 15\,00€/Erw.
URL:https://salzgrotte-halit.de/event/klangschalenmeditation-5/
END:VEVENT
BEGIN:VEVENT
DTSTART;TZID=Europe/Berlin:20230116T180000
DTEND;TZID=Europe/Berlin:20230116T184500
DTSTAMP:20260421T110146
CREATED:20221226T134739Z
LAST-MODIFIED:20221226T135048Z
UID:3652-1673892000-1673894700@salzgrotte-halit.de
SUMMARY:Klangmeditation
DESCRIPTION:Eine Reise in den Klang\, eine Reise zu Dir selbst. Den Alltag vergessen\, entspannen und auftanken. Gemütlich in eine Decke gehüllt\, auf einem Liegestuhl liegend\, lass Dich von den Klängen unterschiedlicher Klanginstrumente – Shanti\, Sansula\, Klangmobile Sonne und Mond und Monochord – in eine tiefe Meditation führen. \nMit Katrin Fleck \nPreis: 7\,50/Kinder ab 10 Jahren\, 15:00/Erw.
URL:https://salzgrotte-halit.de/event/klangmeditation/
END:VEVENT
BEGIN:VEVENT
DTSTART;TZID=Europe/Berlin:20230118T190000
DTEND;TZID=Europe/Berlin:20230118T194500
DTSTAMP:20260421T110146
CREATED:20221226T134232Z
LAST-MODIFIED:20221226T134232Z
UID:3646-1674068400-1674071100@salzgrotte-halit.de
SUMMARY:Klangschalenmeditation
DESCRIPTION:Gönnen Sie sich eine kleine Auszeit. Den Alltag vergessen\, entspannen und auftanken. Lassen Sie sich\, in eine Decke gehüllt\, auf einem bequemen Liegestuhl liegend\, von den Klängen der Klangschalen in eine tiefe Meditation führen. \nMit Monika Dierks \nPreis: 7\,50€/Kind\, 15\,00€/Erw.
URL:https://salzgrotte-halit.de/event/klangschalenmeditation-6/
END:VEVENT
BEGIN:VEVENT
DTSTART;TZID=Europe/Berlin:20230124T190000
DTEND;TZID=Europe/Berlin:20230124T194500
DTSTAMP:20260421T110146
CREATED:20221226T134356Z
LAST-MODIFIED:20221226T134507Z
UID:3649-1674586800-1674589500@salzgrotte-halit.de
SUMMARY:Klangschalenmeditation
DESCRIPTION:Gönnen Sie sich eine kleine Auszeit. Den Alltag vergessen\, entspannen und auftanken. Lassen Sie sich\, in eine Decke gehüllt\, auf einem bequemen Liegestuhl liegend\, von den Klängen der Klangschalen in eine tiefe Meditation führen. \nMit Monika Dierks \nPreis: 7\,50€/Kind\, 15\,00€/Erw.
URL:https://salzgrotte-halit.de/event/klangschalenmeditation-7/
END:VEVENT
BEGIN:VEVENT
DTSTART;TZID=Europe/Berlin:20230125T180000
DTEND;TZID=Europe/Berlin:20230125T190000
DTSTAMP:20260421T110146
CREATED:20230119T210524Z
LAST-MODIFIED:20230119T210524Z
UID:3754-1674669600-1674673200@salzgrotte-halit.de
SUMMARY:Herzmeditation
DESCRIPTION:mit Daniela Upmeyer-Consbruch \n♥️ Meditation    \nIn dieser wundervollen Meditation geht es darum\, dass du sich annimmst\, genauso\, wie du bist.  \nWir lassen den Alltag los\, in dem wir unseren Atem fokussieren. Mit ihm gehen wir Stück für Stück durch unseren Körper und spüren ihn dabei ganz intensiv. Der erreichte Zustand von Ruhe\, Gelassenheit und Entspannung lässt es zu\, dein Unterbewusstsein anzusprechen. Dabei steigert die Meditation deinen Selbstwert\, deine Selbstakzeptanz und Selbstliebe. Um in der Zukunft liebevoller und verständnisvoller mit dir selbst umzugehen und ein „Nein“ zu sprechen wenn du ein „Nein“ fühlst.
URL:https://salzgrotte-halit.de/event/herzmeditation/
END:VEVENT
END:VCALENDAR